BEGIN:VCALENDAR
VERSION:2.0
PRODID:-//Our Savior&#039;s Palm Springs - ECPv6.15.20//NONSGML v1.0//EN
CALSCALE:GREGORIAN
METHOD:PUBLISH
X-ORIGINAL-URL:https://oursaviors.org
X-WR-CALDESC:Events for Our Savior&#039;s Palm Springs
REFRESH-INTERVAL;VALUE=DURATION:PT1H
X-Robots-Tag:noindex
X-PUBLISHED-TTL:PT1H
BEGIN:VTIMEZONE
TZID:America/Los_Angeles
BEGIN:DAYLIGHT
TZOFFSETFROM:-0800
TZOFFSETTO:-0700
TZNAME:PDT
DTSTART:20220313T100000
END:DAYLIGHT
BEGIN:STANDARD
TZOFFSETFROM:-0700
TZOFFSETTO:-0800
TZNAME:PST
DTSTART:20221106T090000
END:STANDARD
BEGIN:DAYLIGHT
TZOFFSETFROM:-0800
TZOFFSETTO:-0700
TZNAME:PDT
DTSTART:20230312T100000
END:DAYLIGHT
BEGIN:STANDARD
TZOFFSETFROM:-0700
TZOFFSETTO:-0800
TZNAME:PST
DTSTART:20231105T090000
END:STANDARD
BEGIN:DAYLIGHT
TZOFFSETFROM:-0800
TZOFFSETTO:-0700
TZNAME:PDT
DTSTART:20240310T100000
END:DAYLIGHT
BEGIN:STANDARD
TZOFFSETFROM:-0700
TZOFFSETTO:-0800
TZNAME:PST
DTSTART:20241103T090000
END:STANDARD
BEGIN:DAYLIGHT
TZOFFSETFROM:-0800
TZOFFSETTO:-0700
TZNAME:PDT
DTSTART:20250309T100000
END:DAYLIGHT
BEGIN:STANDARD
TZOFFSETFROM:-0700
TZOFFSETTO:-0800
TZNAME:PST
DTSTART:20251102T090000
END:STANDARD
BEGIN:DAYLIGHT
TZOFFSETFROM:-0800
TZOFFSETTO:-0700
TZNAME:PDT
DTSTART:20260308T100000
END:DAYLIGHT
BEGIN:STANDARD
TZOFFSETFROM:-0700
TZOFFSETTO:-0800
TZNAME:PST
DTSTART:20261101T090000
END:STANDARD
END:VTIMEZONE
BEGIN:VEVENT
DTSTART;TZID=America/Los_Angeles:20250305T190000
DTEND;TZID=America/Los_Angeles:20250305T200000
DTSTAMP:20260424T055816
CREATED:20250302T201401Z
LAST-MODIFIED:20250302T201401Z
UID:10002506-1741201200-1741204800@oursaviors.org
SUMMARY:Ash Wednesday Service
DESCRIPTION:Ash Wednesdsay Service
URL:https://oursaviors.org/event/ash-wednesday-service-4/
LOCATION:Our Savior’s\, 1020 East Ramon Road\, Palm Springs\, CA\, 92262\, United States
GEO:33.8164396;-116.5360855
X-APPLE-STRUCTURED-LOCATION;VALUE=URI;X-ADDRESS=Our Savior’s 1020 East Ramon Road Palm Springs CA 92262 United States;X-APPLE-RADIUS=500;X-TITLE=1020 East Ramon Road:geo:-116.5360855,33.8164396
END:VEVENT
BEGIN:VEVENT
DTSTART;TZID=America/Los_Angeles:20250305T173000
DTEND;TZID=America/Los_Angeles:20250305T190000
DTSTAMP:20260424T055816
CREATED:20250302T201551Z
LAST-MODIFIED:20250302T201852Z
UID:10002507-1741195800-1741201200@oursaviors.org
SUMMARY:Potluck
DESCRIPTION:
URL:https://oursaviors.org/event/potluck/
LOCATION:Our Savior’s\, 1020 East Ramon Road\, Palm Springs\, CA\, 92262\, United States
GEO:33.8164396;-116.5360855
X-APPLE-STRUCTURED-LOCATION;VALUE=URI;X-ADDRESS=Our Savior’s 1020 East Ramon Road Palm Springs CA 92262 United States;X-APPLE-RADIUS=500;X-TITLE=1020 East Ramon Road:geo:-116.5360855,33.8164396
END:VEVENT
BEGIN:VEVENT
DTSTART;TZID=America/Los_Angeles:20250219T183000
DTEND;TZID=America/Los_Angeles:20250219T183000
DTSTAMP:20260424T055816
CREATED:20250216T182715Z
LAST-MODIFIED:20250216T182715Z
UID:10002505-1739989800-1739989800@oursaviors.org
SUMMARY:Praise and Prayer Night
DESCRIPTION:Come together for a time of prayer\, worship\, and fellowship.
URL:https://oursaviors.org/event/praise-and-prayer-night-5/
LOCATION:Our Savior’s\, 1020 East Ramon Road\, Palm Springs\, CA\, 92262\, United States
GEO:33.8164396;-116.5360855
X-APPLE-STRUCTURED-LOCATION;VALUE=URI;X-ADDRESS=Our Savior’s 1020 East Ramon Road Palm Springs CA 92262 United States;X-APPLE-RADIUS=500;X-TITLE=1020 East Ramon Road:geo:-116.5360855,33.8164396
END:VEVENT
BEGIN:VEVENT
DTSTART;TZID=America/Los_Angeles:20250216T123000
DTEND;TZID=America/Los_Angeles:20250216T123000
DTSTAMP:20260424T055816
CREATED:20250203T195611Z
LAST-MODIFIED:20250214T010932Z
UID:10002504-1739709000-1739709000@oursaviors.org
SUMMARY:(CANCELLED) Legacy Giving Event
DESCRIPTION:  \nThis Sundays Lunch and “Legacy Giving Event”\nhas been cancelled.\nThe LCEF rep\, Diana Raasch is coming from Milwaukee\, Wisconsin and they are having a BIG snowstorm.  She cannot fly out. \nWe will reschedule once we can find another date that works for all parties involved. \n \nSunday Feb 16th\, immediately following service\, we will be hosting a “Planning Your Legacy Workshop”\, here at Our Savior’s Palm Springs. It is free\, lunch will be provided\, ALL are welcome.   We have been working with the Lutheran Church Extension Fund to put together a comprehensive panel of experts that YOU can interact with to get answers to some of “THOSE” questions we all need to discuss.  “How do I plan ahead to protect the ones I love? ” \nOur intent is to provide you with information\, we will NOT be SELLING anything! \nPastor Andrew will be preaching that day and he will be on the panel of experts.  He will also be preaching this Sunday February 9th-Superbowl Sunday-there will not be a workshop with Andrew on Sunday Feb 9th. \nBlessings!
URL:https://oursaviors.org/event/legacy-giving-event/
LOCATION:Our Savior’s\, 1020 East Ramon Road\, Palm Springs\, CA\, 92262\, United States
CATEGORIES:Featured
GEO:33.8164396;-116.5360855
X-APPLE-STRUCTURED-LOCATION;VALUE=URI;X-ADDRESS=Our Savior’s 1020 East Ramon Road Palm Springs CA 92262 United States;X-APPLE-RADIUS=500;X-TITLE=1020 East Ramon Road:geo:-116.5360855,33.8164396
END:VEVENT
BEGIN:VEVENT
DTSTART;TZID=America/Los_Angeles:20250115T180000
DTEND;TZID=America/Los_Angeles:20250115T190000
DTSTAMP:20260424T055816
CREATED:20250112T181424Z
LAST-MODIFIED:20250112T181424Z
UID:10002257-1736964000-1736967600@oursaviors.org
SUMMARY:Praise and Prayer Night
DESCRIPTION:Come together for a time of prayer\, worship\, and fellowship.
URL:https://oursaviors.org/event/praise-and-prayer-night-4/
LOCATION:Our Savior’s\, 1020 East Ramon Road\, Palm Springs\, CA\, 92262\, United States
GEO:33.8164396;-116.5360855
X-APPLE-STRUCTURED-LOCATION;VALUE=URI;X-ADDRESS=Our Savior’s 1020 East Ramon Road Palm Springs CA 92262 United States;X-APPLE-RADIUS=500;X-TITLE=1020 East Ramon Road:geo:-116.5360855,33.8164396
END:VEVENT
BEGIN:VEVENT
DTSTART;TZID=America/Los_Angeles:20250107T180000
DTEND;TZID=America/Los_Angeles:20250107T190000
DTSTAMP:20260424T055816
CREATED:20250105T181400Z
LAST-MODIFIED:20250105T181400Z
UID:10002256-1736272800-1736276400@oursaviors.org
SUMMARY:Stretching in the Spirit
DESCRIPTION:Take a deep breath\, relax and stretch. \nIn fellowship room.
URL:https://oursaviors.org/event/stretching-in-the-spirit/
LOCATION:Our Savior’s\, 1020 East Ramon Road\, Palm Springs\, CA\, 92262\, United States
GEO:33.8164396;-116.5360855
X-APPLE-STRUCTURED-LOCATION;VALUE=URI;X-ADDRESS=Our Savior’s 1020 East Ramon Road Palm Springs CA 92262 United States;X-APPLE-RADIUS=500;X-TITLE=1020 East Ramon Road:geo:-116.5360855,33.8164396
END:VEVENT
BEGIN:VEVENT
DTSTART;TZID=America/Los_Angeles:20241224T190000
DTEND;TZID=America/Los_Angeles:20241224T190000
DTSTAMP:20260424T055816
CREATED:20241124T182419Z
LAST-MODIFIED:20241210T175628Z
UID:10002255-1735066800-1735066800@oursaviors.org
SUMMARY:Christmas Eve Service
DESCRIPTION:
URL:https://oursaviors.org/event/christmas-eve-service-3/
LOCATION:Our Savior’s\, 1020 East Ramon Road\, Palm Springs\, CA\, 92262\, United States
CATEGORIES:Featured
ATTACH;FMTTYPE=image/png:https://oursaviors.org/wp-content/uploads/2024/11/ChristmasEveOSPS2025.png
GEO:33.8164396;-116.5360855
X-APPLE-STRUCTURED-LOCATION;VALUE=URI;X-ADDRESS=Our Savior’s 1020 East Ramon Road Palm Springs CA 92262 United States;X-APPLE-RADIUS=500;X-TITLE=1020 East Ramon Road:geo:-116.5360855,33.8164396
END:VEVENT
BEGIN:VEVENT
DTSTART;TZID=America/Los_Angeles:20241208T110000
DTEND;TZID=America/Los_Angeles:20241208T110000
DTSTAMP:20260424T055816
CREATED:20241110T183759Z
LAST-MODIFIED:20241124T181305Z
UID:10002252-1733655600-1733655600@oursaviors.org
SUMMARY:Congregational Meeting
DESCRIPTION:Sunday December 8\, immediately after Sunday service\, we will be holding our annual congregational meeting.  We will discuss and approve our budget for 2025 and elect new elders. All are welcome to attend the meeting-members only will vote.
URL:https://oursaviors.org/event/congregational-meeting-3/
LOCATION:Our Savior’s\, 1020 East Ramon Road\, Palm Springs\, CA\, 92262\, United States
GEO:33.8164396;-116.5360855
X-APPLE-STRUCTURED-LOCATION;VALUE=URI;X-ADDRESS=Our Savior’s 1020 East Ramon Road Palm Springs CA 92262 United States;X-APPLE-RADIUS=500;X-TITLE=1020 East Ramon Road:geo:-116.5360855,33.8164396
END:VEVENT
BEGIN:VEVENT
DTSTART;TZID=America/Los_Angeles:20241207T110000
DTEND;TZID=America/Los_Angeles:20241207T110000
DTSTAMP:20260424T055816
CREATED:20241124T181126Z
LAST-MODIFIED:20241124T181126Z
UID:10002254-1733569200-1733569200@oursaviors.org
SUMMARY:Ladies Luncheon
DESCRIPTION:The ladies of the church will be hosting a ladies luncheon on that same day\, Saturday December 7th at 11:00 am.  All ladies are invited!\nIf you have any questions\, contact Lisa or Ellen.
URL:https://oursaviors.org/event/ladies-luncheon/
LOCATION:Our Savior’s\, 1020 East Ramon Road\, Palm Springs\, CA\, 92262\, United States
GEO:33.8164396;-116.5360855
X-APPLE-STRUCTURED-LOCATION;VALUE=URI;X-ADDRESS=Our Savior’s 1020 East Ramon Road Palm Springs CA 92262 United States;X-APPLE-RADIUS=500;X-TITLE=1020 East Ramon Road:geo:-116.5360855,33.8164396
END:VEVENT
BEGIN:VEVENT
DTSTART;TZID=America/Los_Angeles:20241207T080000
DTEND;TZID=America/Los_Angeles:20241207T080000
DTSTAMP:20260424T055816
CREATED:20241124T180658Z
LAST-MODIFIED:20241124T180658Z
UID:10002253-1733558400-1733558400@oursaviors.org
SUMMARY:Holiday Decorating Party
DESCRIPTION:   Our holiday decorating party will be Saturday December 7th\, at 9:00AM.  As in previous years\, we need “all hands on deck” .  It’s always fun to come together and get the church “decked” out for the holidays. Come join us!
URL:https://oursaviors.org/event/holiday-decorating-party/
LOCATION:Our Savior’s\, 1020 East Ramon Road\, Palm Springs\, CA\, 92262\, United States
GEO:33.8164396;-116.5360855
X-APPLE-STRUCTURED-LOCATION;VALUE=URI;X-ADDRESS=Our Savior’s 1020 East Ramon Road Palm Springs CA 92262 United States;X-APPLE-RADIUS=500;X-TITLE=1020 East Ramon Road:geo:-116.5360855,33.8164396
END:VEVENT
BEGIN:VEVENT
DTSTART;TZID=America/Los_Angeles:20241120T180000
DTEND;TZID=America/Los_Angeles:20241120T180000
DTSTAMP:20260424T055816
CREATED:20241110T183401Z
LAST-MODIFIED:20241110T183401Z
UID:10002251-1732125600-1732125600@oursaviors.org
SUMMARY:Praise and Prayer Night
DESCRIPTION:Come together for a time of prayer\, worship\, and fellowship.
URL:https://oursaviors.org/event/praise-and-prayer-night-3/
LOCATION:Our Savior’s\, 1020 East Ramon Road\, Palm Springs\, CA\, 92262\, United States
GEO:33.8164396;-116.5360855
X-APPLE-STRUCTURED-LOCATION;VALUE=URI;X-ADDRESS=Our Savior’s 1020 East Ramon Road Palm Springs CA 92262 United States;X-APPLE-RADIUS=500;X-TITLE=1020 East Ramon Road:geo:-116.5360855,33.8164396
END:VEVENT
BEGIN:VEVENT
DTSTART;TZID=America/Los_Angeles:20241026T150000
DTEND;TZID=America/Los_Angeles:20241026T180000
DTSTAMP:20260424T055816
CREATED:20241004T012618Z
LAST-MODIFIED:20241004T014107Z
UID:10002250-1729954800-1729965600@oursaviors.org
SUMMARY:Fall Festival
DESCRIPTION:Our Saviors Church presents \nLive Music – Taco Truck – Kona Ice – Games and Activities for Kids – Face Painting \nPerformances by Local Rap Artist Izayus\, Worship Led by Pete Wilson and more
URL:https://oursaviors.org/event/fall-festival-2/
LOCATION:Our Savior’s\, 1020 East Ramon Road\, Palm Springs\, CA\, 92262\, United States
CATEGORIES:Featured
ATTACH;FMTTYPE=image/png:https://oursaviors.org/wp-content/uploads/2024/10/Fall-Fest-Half-Sheet.png
GEO:33.8164396;-116.5360855
X-APPLE-STRUCTURED-LOCATION;VALUE=URI;X-ADDRESS=Our Savior’s 1020 East Ramon Road Palm Springs CA 92262 United States;X-APPLE-RADIUS=500;X-TITLE=1020 East Ramon Road:geo:-116.5360855,33.8164396
END:VEVENT
BEGIN:VEVENT
DTSTART;TZID=America/Los_Angeles:20241005T090000
DTEND;TZID=America/Los_Angeles:20241005T090000
DTSTAMP:20260424T055816
CREATED:20240907T063734Z
LAST-MODIFIED:20240907T063734Z
UID:10002249-1728118800-1728118800@oursaviors.org
SUMMARY:Work Day
DESCRIPTION:This is another opportunity to be together to get “a few” things done around here as we begin a new season. Come join us…even if it’s for moral support! It’s always fun when we work together.
URL:https://oursaviors.org/event/work-day/
LOCATION:Our Savior’s\, 1020 East Ramon Road\, Palm Springs\, CA\, 92262\, United States
GEO:33.8164396;-116.5360855
X-APPLE-STRUCTURED-LOCATION;VALUE=URI;X-ADDRESS=Our Savior’s 1020 East Ramon Road Palm Springs CA 92262 United States;X-APPLE-RADIUS=500;X-TITLE=1020 East Ramon Road:geo:-116.5360855,33.8164396
END:VEVENT
BEGIN:VEVENT
DTSTART;TZID=America/Los_Angeles:20240918T180000
DTEND;TZID=America/Los_Angeles:20240918T180000
DTSTAMP:20260424T055816
CREATED:20240907T063627Z
LAST-MODIFIED:20240907T063627Z
UID:10002248-1726682400-1726682400@oursaviors.org
SUMMARY:Potluck Dinner
DESCRIPTION:There will be  potluck dinner here at the church on Sept 18th\, at 6:00PM\, once again\,  all are invited.  We normally have our worship and prayer night on the third Wednesday of each month\, the elders thought it would be great\, to get together with food\, and discuss the “official” opening of a new season.  We will have sign up sheets for small group Bible studies.  It will be a great time to renew our commitments to small groups.
URL:https://oursaviors.org/event/potluck-dinner/
LOCATION:Our Savior’s\, 1020 East Ramon Road\, Palm Springs\, CA\, 92262\, United States
GEO:33.8164396;-116.5360855
X-APPLE-STRUCTURED-LOCATION;VALUE=URI;X-ADDRESS=Our Savior’s 1020 East Ramon Road Palm Springs CA 92262 United States;X-APPLE-RADIUS=500;X-TITLE=1020 East Ramon Road:geo:-116.5360855,33.8164396
END:VEVENT
BEGIN:VEVENT
DTSTART;TZID=America/Los_Angeles:20240908T110000
DTEND;TZID=America/Los_Angeles:20240908T110000
DTSTAMP:20260424T055816
CREATED:20240907T063352Z
LAST-MODIFIED:20240907T063421Z
UID:10002247-1725793200-1725793200@oursaviors.org
SUMMARY:Mission Lunch
DESCRIPTION:Mission Lunch immediately after church this Sunday!  \nMichael Marks will be reporting out from his mission trip to Central Asia.\nIt will be a great time of fellowship and fun!\nAll are invited\, lunch will be served.\nCome join us and invite a friend!
URL:https://oursaviors.org/event/mission-lunch/
LOCATION:Our Savior’s\, 1020 East Ramon Road\, Palm Springs\, CA\, 92262\, United States
GEO:33.8164396;-116.5360855
X-APPLE-STRUCTURED-LOCATION;VALUE=URI;X-ADDRESS=Our Savior’s 1020 East Ramon Road Palm Springs CA 92262 United States;X-APPLE-RADIUS=500;X-TITLE=1020 East Ramon Road:geo:-116.5360855,33.8164396
END:VEVENT
BEGIN:VEVENT
DTSTART;TZID=America/Los_Angeles:20240821T180000
DTEND;TZID=America/Los_Angeles:20240821T180000
DTSTAMP:20260424T055816
CREATED:20240818T172608Z
LAST-MODIFIED:20240818T172608Z
UID:10002246-1724263200-1724263200@oursaviors.org
SUMMARY:Praise and Prayer Night
DESCRIPTION:Come together for a time of prayer\, worship\, and fellowship.
URL:https://oursaviors.org/event/praise-and-prayer-night-2/
LOCATION:Our Savior’s\, 1020 East Ramon Road\, Palm Springs\, CA\, 92262\, United States
GEO:33.8164396;-116.5360855
X-APPLE-STRUCTURED-LOCATION;VALUE=URI;X-ADDRESS=Our Savior’s 1020 East Ramon Road Palm Springs CA 92262 United States;X-APPLE-RADIUS=500;X-TITLE=1020 East Ramon Road:geo:-116.5360855,33.8164396
END:VEVENT
BEGIN:VEVENT
DTSTART;TZID=America/Los_Angeles:20240717T180000
DTEND;TZID=America/Los_Angeles:20240717T180000
DTSTAMP:20260424T055816
CREATED:20240714T171116Z
LAST-MODIFIED:20240714T171116Z
UID:10002245-1721239200-1721239200@oursaviors.org
SUMMARY:Praise and Prayer Night
DESCRIPTION:Come together for a time of prayer\, worship\, and fellowship.
URL:https://oursaviors.org/event/praise-and-prayer-night/
LOCATION:Our Savior’s\, 1020 East Ramon Road\, Palm Springs\, CA\, 92262\, United States
GEO:33.8164396;-116.5360855
X-APPLE-STRUCTURED-LOCATION;VALUE=URI;X-ADDRESS=Our Savior’s 1020 East Ramon Road Palm Springs CA 92262 United States;X-APPLE-RADIUS=500;X-TITLE=1020 East Ramon Road:geo:-116.5360855,33.8164396
END:VEVENT
BEGIN:VEVENT
DTSTART;TZID=America/Los_Angeles:20240427T090000
DTEND;TZID=America/Los_Angeles:20240427T110000
DTSTAMP:20260424T055816
CREATED:20240407T171220Z
LAST-MODIFIED:20240407T171220Z
UID:10002244-1714208400-1714215600@oursaviors.org
SUMMARY:Community Shredding Event
DESCRIPTION:
URL:https://oursaviors.org/event/community-shredding-event/
LOCATION:Our Savior’s\, 1020 East Ramon Road\, Palm Springs\, CA\, 92262\, United States
GEO:33.8164396;-116.5360855
X-APPLE-STRUCTURED-LOCATION;VALUE=URI;X-ADDRESS=Our Savior’s 1020 East Ramon Road Palm Springs CA 92262 United States;X-APPLE-RADIUS=500;X-TITLE=1020 East Ramon Road:geo:-116.5360855,33.8164396
END:VEVENT
BEGIN:VEVENT
DTSTART;TZID=America/Los_Angeles:20240414T113000
DTEND;TZID=America/Los_Angeles:20240414T113000
DTSTAMP:20260424T055816
CREATED:20231113T012703Z
LAST-MODIFIED:20231113T013543Z
UID:10002233-1713094200-1713094200@oursaviors.org
SUMMARY:DIVE DEEPER! with Vicar Mike Orme - Fellowship Hall
DESCRIPTION:Topics include:– Brief history of LCMS– “Cliffs notes” Bible overview – History of the Christian church– Define what Scripture is– The Trinity– Original Sin– Freewill– Predestination & Foreknowledge – Faith– Justification – Sanctification – Baptism– Communion – Church & Pastoral office– Tithing
URL:https://oursaviors.org/event/dive-deeper-with-vicar-mike-orme-fellowship-hall/2024-04-14/
LOCATION:Our Savior’s\, 1020 East Ramon Road\, Palm Springs\, CA\, 92262\, United States
GEO:33.8164396;-116.5360855
X-APPLE-STRUCTURED-LOCATION;VALUE=URI;X-ADDRESS=Our Savior’s 1020 East Ramon Road Palm Springs CA 92262 United States;X-APPLE-RADIUS=500;X-TITLE=1020 East Ramon Road:geo:-116.5360855,33.8164396
END:VEVENT
BEGIN:VEVENT
DTSTART;VALUE=DATE:20240413
DTEND;VALUE=DATE:20240414
DTSTAMP:20260424T055816
CREATED:20240324T175000Z
LAST-MODIFIED:20240324T175000Z
UID:10002241-1712966400-1713052799@oursaviors.org
SUMMARY:Ladies Spring Luncheon
DESCRIPTION:
URL:https://oursaviors.org/event/ladies-spring-luncheon/
LOCATION:Our Savior’s\, 1020 East Ramon Road\, Palm Springs\, CA\, 92262\, United States
GEO:33.8164396;-116.5360855
X-APPLE-STRUCTURED-LOCATION;VALUE=URI;X-ADDRESS=Our Savior’s 1020 East Ramon Road Palm Springs CA 92262 United States;X-APPLE-RADIUS=500;X-TITLE=1020 East Ramon Road:geo:-116.5360855,33.8164396
END:VEVENT
BEGIN:VEVENT
DTSTART;TZID=America/Los_Angeles:20240331T100000
DTEND;TZID=America/Los_Angeles:20240331T100000
DTSTAMP:20260424T055816
CREATED:20171004T192206Z
LAST-MODIFIED:20240324T180914Z
UID:10002039-1711879200-1711879200@oursaviors.org
SUMMARY:Easter Sunday Service
DESCRIPTION:
URL:https://oursaviors.org/event/weekly-worship-service-2024-03-31/
LOCATION:Our Savior’s\, 1020 East Ramon Road\, Palm Springs\, CA\, 92262\, United States
CATEGORIES:Church Service
GEO:33.8164396;-116.5360855
X-APPLE-STRUCTURED-LOCATION;VALUE=URI;X-ADDRESS=Our Savior’s 1020 East Ramon Road Palm Springs CA 92262 United States;X-APPLE-RADIUS=500;X-TITLE=1020 East Ramon Road:geo:-116.5360855,33.8164396
END:VEVENT
BEGIN:VEVENT
DTSTART;TZID=America/Los_Angeles:20240329T190000
DTEND;TZID=America/Los_Angeles:20240329T190000
DTSTAMP:20260424T055816
CREATED:20240324T175348Z
LAST-MODIFIED:20240324T175421Z
UID:10002243-1711738800-1711738800@oursaviors.org
SUMMARY:Good Friday Service
DESCRIPTION:
URL:https://oursaviors.org/event/good-friday-service-3/
LOCATION:Our Savior’s\, 1020 East Ramon Road\, Palm Springs\, CA\, 92262\, United States
GEO:33.8164396;-116.5360855
X-APPLE-STRUCTURED-LOCATION;VALUE=URI;X-ADDRESS=Our Savior’s 1020 East Ramon Road Palm Springs CA 92262 United States;X-APPLE-RADIUS=500;X-TITLE=1020 East Ramon Road:geo:-116.5360855,33.8164396
END:VEVENT
BEGIN:VEVENT
DTSTART;TZID=America/Los_Angeles:20240328T190000
DTEND;TZID=America/Los_Angeles:20240328T190000
DTSTAMP:20260424T055816
CREATED:20240324T175247Z
LAST-MODIFIED:20240324T175601Z
UID:10002242-1711652400-1711652400@oursaviors.org
SUMMARY:Maundy Thursday Service
DESCRIPTION:
URL:https://oursaviors.org/event/maundy-thursday/
LOCATION:Our Savior’s\, 1020 East Ramon Road\, Palm Springs\, CA\, 92262\, United States
GEO:33.8164396;-116.5360855
X-APPLE-STRUCTURED-LOCATION;VALUE=URI;X-ADDRESS=Our Savior’s 1020 East Ramon Road Palm Springs CA 92262 United States;X-APPLE-RADIUS=500;X-TITLE=1020 East Ramon Road:geo:-116.5360855,33.8164396
END:VEVENT
BEGIN:VEVENT
DTSTART;TZID=America/Los_Angeles:20240214T190000
DTEND;TZID=America/Los_Angeles:20240214T200000
DTSTAMP:20260424T055816
CREATED:20240215T013234Z
LAST-MODIFIED:20240215T013311Z
UID:10002240-1707937200-1707940800@oursaviors.org
SUMMARY:Ash Wednesday Service
DESCRIPTION:Join us THIS evening for the start of our Lent services and the distribution of Ashes.\nPlease note\, this service will not be live streamed.
URL:https://oursaviors.org/event/ash-wednesday-service-3/
LOCATION:Our Savior’s\, 1020 East Ramon Road\, Palm Springs\, CA\, 92262\, United States
CATEGORIES:Featured
GEO:33.8164396;-116.5360855
X-APPLE-STRUCTURED-LOCATION;VALUE=URI;X-ADDRESS=Our Savior’s 1020 East Ramon Road Palm Springs CA 92262 United States;X-APPLE-RADIUS=500;X-TITLE=1020 East Ramon Road:geo:-116.5360855,33.8164396
END:VEVENT
BEGIN:VEVENT
DTSTART;TZID=America/Los_Angeles:20231224T180000
DTEND;TZID=America/Los_Angeles:20231224T190000
DTSTAMP:20260424T055816
CREATED:20231113T013436Z
LAST-MODIFIED:20231118T213008Z
UID:10002234-1703440800-1703444400@oursaviors.org
SUMMARY:Christmas Eve Service (6PM)
DESCRIPTION:
URL:https://oursaviors.org/event/christmas-eve-service-6pm/
LOCATION:Our Savior’s\, 1020 East Ramon Road\, Palm Springs\, CA\, 92262\, United States
ATTACH;FMTTYPE=image/jpeg:https://oursaviors.org/wp-content/uploads/2023/11/6a0c0fa9-f9d7-cd34-d0bf-369aeaf246f2.jpg
GEO:33.8164396;-116.5360855
X-APPLE-STRUCTURED-LOCATION;VALUE=URI;X-ADDRESS=Our Savior’s 1020 East Ramon Road Palm Springs CA 92262 United States;X-APPLE-RADIUS=500;X-TITLE=1020 East Ramon Road:geo:-116.5360855,33.8164396
END:VEVENT
BEGIN:VEVENT
DTSTART;TZID=America/Los_Angeles:20231220T173000
DTEND;TZID=America/Los_Angeles:20231220T173000
DTSTAMP:20260424T055816
CREATED:20231220T045613Z
LAST-MODIFIED:20231220T045613Z
UID:10002239-1703093400-1703093400@oursaviors.org
SUMMARY:CHRISTMAS at OUR SAVIOR'S
DESCRIPTION:We will be serving chili and provide a baked potato bar!\nPlease bring a dish/dessert/drinks to share! \nThis will be a night of fellowship\, prayer\, and singing Christmas carols as a church body! We will have a firepit to enjoy later in the evening to enjoy! \nPLEASE TEXT OR EMAIL SOPHIA WHAT YOU WILL BE BRINGING\nSOPHIA@OURSAVIORS.ORG
URL:https://oursaviors.org/event/christmas-at-our-saviors/
LOCATION:Our Savior’s\, 1020 East Ramon Road\, Palm Springs\, CA\, 92262\, United States
GEO:33.8164396;-116.5360855
X-APPLE-STRUCTURED-LOCATION;VALUE=URI;X-ADDRESS=Our Savior’s 1020 East Ramon Road Palm Springs CA 92262 United States;X-APPLE-RADIUS=500;X-TITLE=1020 East Ramon Road:geo:-116.5360855,33.8164396
END:VEVENT
BEGIN:VEVENT
DTSTART;TZID=America/Los_Angeles:20231203T110000
DTEND;TZID=America/Los_Angeles:20231203T230000
DTSTAMP:20260424T055816
CREATED:20231118T213120Z
LAST-MODIFIED:20231118T213120Z
UID:10002236-1701601200-1701644400@oursaviors.org
SUMMARY:Annual Congregational Meeting
DESCRIPTION:Sunday December 3rd will be the annual congregational meeting\, immediately following service. We will be presenting the budget for the members to approve. We will be voting to install two new elders\,\nBob Munger and Orville Voight. Everyone is invited to sit in and listen and hear about Our Saviors news\,\nmembers will be allowed to vote
URL:https://oursaviors.org/event/annual-congregational-meeting/
LOCATION:Our Savior’s\, 1020 East Ramon Road\, Palm Springs\, CA\, 92262\, United States
GEO:33.8164396;-116.5360855
X-APPLE-STRUCTURED-LOCATION;VALUE=URI;X-ADDRESS=Our Savior’s 1020 East Ramon Road Palm Springs CA 92262 United States;X-APPLE-RADIUS=500;X-TITLE=1020 East Ramon Road:geo:-116.5360855,33.8164396
END:VEVENT
BEGIN:VEVENT
DTSTART;TZID=America/Los_Angeles:20231202T090000
DTEND;TZID=America/Los_Angeles:20231202T090000
DTSTAMP:20260424T055816
CREATED:20231118T213234Z
LAST-MODIFIED:20231118T213234Z
UID:10002237-1701507600-1701507600@oursaviors.org
SUMMARY:Annual Congregational Christmas Decorating Event
DESCRIPTION:Saturday December 2nd 9:00AM will be our annual congregation Christmas decorating event.  Everyone is invited and needed to help get the church decorated.  There is a lot to do and every helping hand is appreciated.
URL:https://oursaviors.org/event/annual-congregational-christmas-decorating-event/
LOCATION:Our Savior’s\, 1020 East Ramon Road\, Palm Springs\, CA\, 92262\, United States
GEO:33.8164396;-116.5360855
X-APPLE-STRUCTURED-LOCATION;VALUE=URI;X-ADDRESS=Our Savior’s 1020 East Ramon Road Palm Springs CA 92262 United States;X-APPLE-RADIUS=500;X-TITLE=1020 East Ramon Road:geo:-116.5360855,33.8164396
END:VEVENT
BEGIN:VEVENT
DTSTART;TZID=America/Los_Angeles:20231115T180000
DTEND;TZID=America/Los_Angeles:20231115T180000
DTSTAMP:20260424T055816
CREATED:20231113T014137Z
LAST-MODIFIED:20231113T014137Z
UID:10002235-1700071200-1700071200@oursaviors.org
SUMMARY:Worship and Prayer Night
DESCRIPTION:Come together for a time of prayer\, worship\, and fellowship. We will be meeting upstairs in the Youth Room.
URL:https://oursaviors.org/event/worship-and-prayer-night-6/
LOCATION:Our Savior’s\, 1020 East Ramon Road\, Palm Springs\, CA\, 92262\, United States
GEO:33.8164396;-116.5360855
X-APPLE-STRUCTURED-LOCATION;VALUE=URI;X-ADDRESS=Our Savior’s 1020 East Ramon Road Palm Springs CA 92262 United States;X-APPLE-RADIUS=500;X-TITLE=1020 East Ramon Road:geo:-116.5360855,33.8164396
END:VEVENT
BEGIN:VEVENT
DTSTART;TZID=America/Los_Angeles:20231024T183000
DTEND;TZID=America/Los_Angeles:20231024T183000
DTSTAMP:20260424T055816
CREATED:20191006T210048Z
LAST-MODIFIED:20231015T183849Z
UID:10001295-1698172200-1698172200@oursaviors.org
SUMMARY:Celebrate Recovery - 8th Anniversary
DESCRIPTION:Celebrate Recovery Our Savior's Church Palm Springs\n8th Anniversary- Tuesday 10/24/23\n- RAFFLES -\nSpecial guest CR Native Nations National Director\nDinner 5:30pm\nTestimony 6:30pm\nCR is a life-changing Christian Recovery program for any kind of hurt\, habit\, or hang-up.  It is a safe and confidential place to find hope\, healing\, and a forever family of supporters!  There is worship\, fellowship\, and open share every Tuesday Night in the Fellowship Hall at 6:30pm. For additional information\, please email our CR Director Pat Layton at pat@oursaviors.org and/or visit the CR website at https://www.celebraterecovery.com
URL:https://oursaviors.org/event/celebrate-recovery-2022-02-22-2023-10-24/
LOCATION:Our Savior’s\, 1020 East Ramon Road\, Palm Springs\, CA\, 92262\, United States
CATEGORIES:Celebrate Recovery,Featured
ATTACH;FMTTYPE=image/png:https://oursaviors.org/wp-content/uploads/2019/10/bf3c27c4-7d2c-9ef9-9874-3dbad3af5e58.png
GEO:33.8164396;-116.5360855
X-APPLE-STRUCTURED-LOCATION;VALUE=URI;X-ADDRESS=Our Savior’s 1020 East Ramon Road Palm Springs CA 92262 United States;X-APPLE-RADIUS=500;X-TITLE=1020 East Ramon Road:geo:-116.5360855,33.8164396
END:VEVENT
END:VCALENDAR