BEGIN:VCALENDAR
VERSION:2.0
PRODID:-//Our Savior&#039;s Palm Springs - ECPv6.15.20//NONSGML v1.0//EN
CALSCALE:GREGORIAN
METHOD:PUBLISH
X-ORIGINAL-URL:https://oursaviors.org
X-WR-CALDESC:Events for Our Savior&#039;s Palm Springs
REFRESH-INTERVAL;VALUE=DURATION:PT1H
X-Robots-Tag:noindex
X-PUBLISHED-TTL:PT1H
BEGIN:VTIMEZONE
TZID:America/Los_Angeles
BEGIN:DAYLIGHT
TZOFFSETFROM:-0800
TZOFFSETTO:-0700
TZNAME:PDT
DTSTART:20210314T100000
END:DAYLIGHT
BEGIN:STANDARD
TZOFFSETFROM:-0700
TZOFFSETTO:-0800
TZNAME:PST
DTSTART:20211107T090000
END:STANDARD
BEGIN:DAYLIGHT
TZOFFSETFROM:-0800
TZOFFSETTO:-0700
TZNAME:PDT
DTSTART:20220313T100000
END:DAYLIGHT
BEGIN:STANDARD
TZOFFSETFROM:-0700
TZOFFSETTO:-0800
TZNAME:PST
DTSTART:20221106T090000
END:STANDARD
BEGIN:DAYLIGHT
TZOFFSETFROM:-0800
TZOFFSETTO:-0700
TZNAME:PDT
DTSTART:20230312T100000
END:DAYLIGHT
BEGIN:STANDARD
TZOFFSETFROM:-0700
TZOFFSETTO:-0800
TZNAME:PST
DTSTART:20231105T090000
END:STANDARD
BEGIN:DAYLIGHT
TZOFFSETFROM:-0800
TZOFFSETTO:-0700
TZNAME:PDT
DTSTART:20240310T100000
END:DAYLIGHT
BEGIN:STANDARD
TZOFFSETFROM:-0700
TZOFFSETTO:-0800
TZNAME:PST
DTSTART:20241103T090000
END:STANDARD
END:VTIMEZONE
BEGIN:VEVENT
DTSTART;TZID=America/Los_Angeles:20230401T100000
DTEND;TZID=America/Los_Angeles:20230401T100000
DTSTAMP:20260424T203856
CREATED:20230319T185527Z
LAST-MODIFIED:20230327T044715Z
UID:10002210-1680343200-1680343200@oursaviors.org
SUMMARY:In Loving Memory of Rebecca Venuti
DESCRIPTION:IN LOVING MEMORY OF REBECCA\nVENUTI\nAUGUST 31\, 1953\nMARCH 05. 2023 \nDONATIONS IN LIEU OF FLOWERS CAN BE MADE TO\nUMBRELLA MINISTRIES\nHTTPS://WWW.UMBRELLAMINI STRIES.COM/DONATE/ \nAFTER THE SERVICE\, ALL ARE WELCOME TO JOIN THE FAMILY AT JOE AND BECKY’S HOME IN LA QUINTA FOR A CELEBRATION OF LIFE.\nAPRIL 1\, 2023 | 10AM\nOur Savior’s Palm Springs\n1020 Ramon Rd\nPalm Springs\, CA 92264
URL:https://oursaviors.org/event/in-loving-memory-of-rebecca-venuti/
LOCATION:Our Savior’s\, 1020 East Ramon Road\, Palm Springs\, CA\, 92262\, United States
GEO:33.8164396;-116.5360855
X-APPLE-STRUCTURED-LOCATION;VALUE=URI;X-ADDRESS=Our Savior’s 1020 East Ramon Road Palm Springs CA 92262 United States;X-APPLE-RADIUS=500;X-TITLE=1020 East Ramon Road:geo:-116.5360855,33.8164396
END:VEVENT
BEGIN:VEVENT
DTSTART;TZID=America/Los_Angeles:20230325T120000
DTEND;TZID=America/Los_Angeles:20230325T170000
DTSTAMP:20260424T203856
CREATED:20230319T185308Z
LAST-MODIFIED:20230319T185308Z
UID:10002209-1679745600-1679763600@oursaviors.org
SUMMARY:CONGREGATIONAI BRAINSTORM
DESCRIPTION:Lunch + Meeting\nEvents\nSaturday\, 25 March\, 2023 | 12pm \nON Fellowship Hall This will be a similar meeting to\nour brainstorming meeting at\nCliff Black’s house last year
URL:https://oursaviors.org/event/congregationai-brainstorm/
LOCATION:Our Savior’s\, 1020 East Ramon Road\, Palm Springs\, CA\, 92262\, United States
ATTACH;FMTTYPE=image/jpeg:https://oursaviors.org/wp-content/uploads/2023/03/879605b7-7e86-691d-a259-7eb64f5a4096.jpg
GEO:33.8164396;-116.5360855
X-APPLE-STRUCTURED-LOCATION;VALUE=URI;X-ADDRESS=Our Savior’s 1020 East Ramon Road Palm Springs CA 92262 United States;X-APPLE-RADIUS=500;X-TITLE=1020 East Ramon Road:geo:-116.5360855,33.8164396
END:VEVENT
BEGIN:VEVENT
DTSTART;TZID=America/Los_Angeles:20230315T183000
DTEND;TZID=America/Los_Angeles:20230315T193000
DTSTAMP:20260424T203856
CREATED:20230312T173006Z
LAST-MODIFIED:20230315T223155Z
UID:10002208-1678905000-1678908600@oursaviors.org
SUMMARY:Worship + Prayer series
DESCRIPTION:
URL:https://oursaviors.org/event/worship-prayer-series-3/
LOCATION:Our Savior’s\, 1020 East Ramon Road\, Palm Springs\, CA\, 92262\, United States
ATTACH;FMTTYPE=image/jpeg:https://oursaviors.org/wp-content/uploads/2023/03/50af5ad5-7ff2-3fb1-cad8-03dbf0132093.jpg
GEO:33.8164396;-116.5360855
X-APPLE-STRUCTURED-LOCATION;VALUE=URI;X-ADDRESS=Our Savior’s 1020 East Ramon Road Palm Springs CA 92262 United States;X-APPLE-RADIUS=500;X-TITLE=1020 East Ramon Road:geo:-116.5360855,33.8164396
END:VEVENT
BEGIN:VEVENT
DTSTART;TZID=America/Los_Angeles:20230222T190000
DTEND;TZID=America/Los_Angeles:20230222T200000
DTSTAMP:20260424T203856
CREATED:20230222T151230Z
LAST-MODIFIED:20230222T151405Z
UID:10002207-1677092400-1677096000@oursaviors.org
SUMMARY:Ash Wednesday Service
DESCRIPTION:Join us on Wednesday Feb 22\,2023 at 7pm for our Ash Wednesday Service and the start of Lent. We will have a special message prepared by Mike Orme and the imposition of ashes. This will be a time of reflection. \nThis service will be IN PERSON ONLY.
URL:https://oursaviors.org/event/ash-wednesday-service-2/
LOCATION:Our Savior’s\, 1020 East Ramon Road\, Palm Springs\, CA\, 92262\, United States
ATTACH;FMTTYPE=image/jpeg:https://oursaviors.org/wp-content/uploads/2023/02/3ed9bcec-8aa7-e92f-d4f3-7ef632222b9b.jpg
GEO:33.8164396;-116.5360855
X-APPLE-STRUCTURED-LOCATION;VALUE=URI;X-ADDRESS=Our Savior’s 1020 East Ramon Road Palm Springs CA 92262 United States;X-APPLE-RADIUS=500;X-TITLE=1020 East Ramon Road:geo:-116.5360855,33.8164396
END:VEVENT
BEGIN:VEVENT
DTSTART;VALUE=DATE:20230209
DTEND;VALUE=DATE:20230212
DTSTAMP:20260424T203856
CREATED:20221021T050030Z
LAST-MODIFIED:20221021T050031Z
UID:10002201-1675900800-1676159999@oursaviors.org
SUMMARY:Desert Apologetics
DESCRIPTION:
URL:https://oursaviors.org/event/desert-apologetics/
LOCATION:Our Savior’s\, 1020 East Ramon Road\, Palm Springs\, CA\, 92262\, United States
ATTACH;FMTTYPE=image/jpeg:https://oursaviors.org/wp-content/uploads/2022/10/36d7aa0e-8861-4728-7dbc-b0213d7c35e2.jpg
GEO:33.8164396;-116.5360855
X-APPLE-STRUCTURED-LOCATION;VALUE=URI;X-ADDRESS=Our Savior’s 1020 East Ramon Road Palm Springs CA 92262 United States;X-APPLE-RADIUS=500;X-TITLE=1020 East Ramon Road:geo:-116.5360855,33.8164396
END:VEVENT
BEGIN:VEVENT
DTSTART;TZID=America/Los_Angeles:20230205T110000
DTEND;TZID=America/Los_Angeles:20230205T120000
DTSTAMP:20260424T203856
CREATED:20230131T020749Z
LAST-MODIFIED:20230131T020749Z
UID:10002206-1675594800-1675598400@oursaviors.org
SUMMARY:Church Congregant Member Meeting
DESCRIPTION:
URL:https://oursaviors.org/event/church-congregant-member-meeting/
LOCATION:Our Savior’s\, 1020 East Ramon Road\, Palm Springs\, CA\, 92262\, United States
ATTACH;FMTTYPE=image/jpeg:https://oursaviors.org/wp-content/uploads/2023/01/95a2d3db-8489-8253-d3cc-7f46420f852c.jpg
GEO:33.8164396;-116.5360855
X-APPLE-STRUCTURED-LOCATION;VALUE=URI;X-ADDRESS=Our Savior’s 1020 East Ramon Road Palm Springs CA 92262 United States;X-APPLE-RADIUS=500;X-TITLE=1020 East Ramon Road:geo:-116.5360855,33.8164396
END:VEVENT
BEGIN:VEVENT
DTSTART;VALUE=DATE:20221225
DTEND;VALUE=DATE:20221226
DTSTAMP:20260424T203856
CREATED:20211101T191705Z
LAST-MODIFIED:20221222T201311Z
UID:10002086-1671926400-1672012799@oursaviors.org
SUMMARY:NO Children Sunday School
DESCRIPTION:
URL:https://oursaviors.org/event/children-sunday-school-2022-12-25/
LOCATION:Our Savior’s\, 1020 East Ramon Road\, Palm Springs\, CA\, 92262\, United States
GEO:33.8164396;-116.5360855
X-APPLE-STRUCTURED-LOCATION;VALUE=URI;X-ADDRESS=Our Savior’s 1020 East Ramon Road Palm Springs CA 92262 United States;X-APPLE-RADIUS=500;X-TITLE=1020 East Ramon Road:geo:-116.5360855,33.8164396
END:VEVENT
BEGIN:VEVENT
DTSTART;VALUE=DATE:20221225
DTEND;VALUE=DATE:20221226
DTSTAMP:20260424T203856
CREATED:20171004T192206Z
LAST-MODIFIED:20221222T201335Z
UID:10002038-1671926400-1672012799@oursaviors.org
SUMMARY:NO Christmas Day Service
DESCRIPTION:
URL:https://oursaviors.org/event/weekly-worship-service-2022-12-25/
LOCATION:Our Savior’s\, 1020 East Ramon Road\, Palm Springs\, CA\, 92262\, United States
ATTACH;FMTTYPE=image/jpeg:https://oursaviors.org/wp-content/uploads/2021/07/Screen-Shot-2021-07-08-at-8.30.05-AM-4.jpg
GEO:33.8164396;-116.5360855
X-APPLE-STRUCTURED-LOCATION;VALUE=URI;X-ADDRESS=Our Savior’s 1020 East Ramon Road Palm Springs CA 92262 United States;X-APPLE-RADIUS=500;X-TITLE=1020 East Ramon Road:geo:-116.5360855,33.8164396
END:VEVENT
BEGIN:VEVENT
DTSTART;TZID=America/Los_Angeles:20221224T190000
DTEND;TZID=America/Los_Angeles:20221224T200000
DTSTAMP:20260424T203856
CREATED:20221221T194917Z
LAST-MODIFIED:20221222T060120Z
UID:10002205-1671908400-1671912000@oursaviors.org
SUMMARY:Christmas Eve Service
DESCRIPTION:Join us this Saturday in the sanctuary in person or online for our annual Christmas Eve service. Pastor Rod Hall will be walking us through the close of our Advent season and the birth of OUR SAVIOR.
URL:https://oursaviors.org/event/christmas-eve-service/
LOCATION:Our Savior’s\, 1020 East Ramon Road\, Palm Springs\, CA\, 92262\, United States
ATTACH;FMTTYPE=image/jpeg:https://oursaviors.org/wp-content/uploads/2022/12/77A4D91A-3B74-4F5C-819E-A86236886EBA.jpeg
GEO:33.8164396;-116.5360855
X-APPLE-STRUCTURED-LOCATION;VALUE=URI;X-ADDRESS=Our Savior’s 1020 East Ramon Road Palm Springs CA 92262 United States;X-APPLE-RADIUS=500;X-TITLE=1020 East Ramon Road:geo:-116.5360855,33.8164396
END:VEVENT
BEGIN:VEVENT
DTSTART;TZID=America/Los_Angeles:20221221T183000
DTEND;TZID=America/Los_Angeles:20221221T193000
DTSTAMP:20260424T203856
CREATED:20221218T030827Z
LAST-MODIFIED:20221222T060149Z
UID:10002204-1671647400-1671651000@oursaviors.org
SUMMARY:Christmas Worship + Prayer Night
DESCRIPTION:Who are you inviting to our worship + prayer night tonight?\nThis will be a time of prayer and fellowship with traditional Christmas carols. What a wonderful opportunity to invite your friends and family to celebrate this CHRISTmas season.\nJoin us at 6:30PM.
URL:https://oursaviors.org/event/christmas-worship-prayer-night/
LOCATION:Our Savior’s\, 1020 East Ramon Road\, Palm Springs\, CA\, 92262\, United States
ATTACH;FMTTYPE=image/png:https://oursaviors.org/wp-content/uploads/2022/12/38a99fc6-fd78-67dc-8d8b-206703b141df.png
GEO:33.8164396;-116.5360855
X-APPLE-STRUCTURED-LOCATION;VALUE=URI;X-ADDRESS=Our Savior’s 1020 East Ramon Road Palm Springs CA 92262 United States;X-APPLE-RADIUS=500;X-TITLE=1020 East Ramon Road:geo:-116.5360855,33.8164396
END:VEVENT
BEGIN:VEVENT
DTSTART;TZID=America/Los_Angeles:20221127T110000
DTEND;TZID=America/Los_Angeles:20221127T120000
DTSTAMP:20260424T203856
CREATED:20221117T045534Z
LAST-MODIFIED:20221117T045629Z
UID:10002203-1669546800-1669550400@oursaviors.org
SUMMARY:Thanksgiving with Pastor Greg (Potluck)
DESCRIPTION:
URL:https://oursaviors.org/event/thanksgiving-with-pastor-greg-potluck/
LOCATION:Our Savior’s\, 1020 East Ramon Road\, Palm Springs\, CA\, 92262\, United States
CATEGORIES:Featured
ATTACH;FMTTYPE=image/jpeg:https://oursaviors.org/wp-content/uploads/2022/11/16f92dd1-2438-0454-caad-64096d52fb40.jpg
GEO:33.8164396;-116.5360855
X-APPLE-STRUCTURED-LOCATION;VALUE=URI;X-ADDRESS=Our Savior’s 1020 East Ramon Road Palm Springs CA 92262 United States;X-APPLE-RADIUS=500;X-TITLE=1020 East Ramon Road:geo:-116.5360855,33.8164396
END:VEVENT
BEGIN:VEVENT
DTSTART;TZID=America/Los_Angeles:20221116T183000
DTEND;TZID=America/Los_Angeles:20221116T200000
DTSTAMP:20260424T203856
CREATED:20221117T045239Z
LAST-MODIFIED:20221117T045240Z
UID:10002202-1668623400-1668628800@oursaviors.org
SUMMARY:Worship + Prayer Series
DESCRIPTION:
URL:https://oursaviors.org/event/worship-prayer-series-2/
LOCATION:Our Savior’s\, 1020 East Ramon Road\, Palm Springs\, CA\, 92262\, United States
CATEGORIES:Featured
ATTACH;FMTTYPE=image/jpeg:https://oursaviors.org/wp-content/uploads/2022/11/4d90f2c1-7464-96fc-22ec-5fd4219a7b59.jpg
GEO:33.8164396;-116.5360855
X-APPLE-STRUCTURED-LOCATION;VALUE=URI;X-ADDRESS=Our Savior’s 1020 East Ramon Road Palm Springs CA 92262 United States;X-APPLE-RADIUS=500;X-TITLE=1020 East Ramon Road:geo:-116.5360855,33.8164396
END:VEVENT
BEGIN:VEVENT
DTSTART;VALUE=DATE:20221105
DTEND;VALUE=DATE:20221106
DTSTAMP:20260424T203856
CREATED:20221001T190802Z
LAST-MODIFIED:20221001T190803Z
UID:10001597-1667606400-1667692799@oursaviors.org
SUMMARY:Ladies Fall Luncheon
DESCRIPTION:
URL:https://oursaviors.org/event/ladies-fall-luncheon/
LOCATION:Our Savior’s\, 1020 East Ramon Road\, Palm Springs\, CA\, 92262\, United States
CATEGORIES:Featured
ATTACH;FMTTYPE=image/jpeg:https://oursaviors.org/wp-content/uploads/2022/10/146b6a1e-0988-8a1d-cb36-e10d86434d0a.jpeg
GEO:33.8164396;-116.5360855
X-APPLE-STRUCTURED-LOCATION;VALUE=URI;X-ADDRESS=Our Savior’s 1020 East Ramon Road Palm Springs CA 92262 United States;X-APPLE-RADIUS=500;X-TITLE=1020 East Ramon Road:geo:-116.5360855,33.8164396
END:VEVENT
BEGIN:VEVENT
DTSTART;TZID=America/Los_Angeles:20221025T173000
DTEND;TZID=America/Los_Angeles:20221025T193000
DTSTAMP:20260424T203856
CREATED:20221021T045642Z
LAST-MODIFIED:20221021T045736Z
UID:10001601-1666719000-1666726200@oursaviors.org
SUMMARY:Celebrate Recovery - 7th Anniversary
DESCRIPTION:
URL:https://oursaviors.org/event/celebrate-recovery-7th-anniversary/
LOCATION:Our Savior’s\, 1020 East Ramon Road\, Palm Springs\, CA\, 92262\, United States
CATEGORIES:Featured
ATTACH;FMTTYPE=image/jpeg:https://oursaviors.org/wp-content/uploads/2022/10/66c60b26-5c43-7cb4-c175-efecd1a0d4c0.jpeg
GEO:33.8164396;-116.5360855
X-APPLE-STRUCTURED-LOCATION;VALUE=URI;X-ADDRESS=Our Savior’s 1020 East Ramon Road Palm Springs CA 92262 United States;X-APPLE-RADIUS=500;X-TITLE=1020 East Ramon Road:geo:-116.5360855,33.8164396
END:VEVENT
BEGIN:VEVENT
DTSTART;TZID=America/Los_Angeles:20221019T183000
DTEND;TZID=America/Los_Angeles:20221019T200000
DTSTAMP:20260424T203856
CREATED:20221001T190959Z
LAST-MODIFIED:20221001T191126Z
UID:10001598-1666204200-1666209600@oursaviors.org
SUMMARY:Worship + Prayer Series
DESCRIPTION:
URL:https://oursaviors.org/event/worship-prayer-series/
LOCATION:Our Savior’s\, 1020 East Ramon Road\, Palm Springs\, CA\, 92262\, United States
CATEGORIES:Featured
ATTACH;FMTTYPE=image/png:https://oursaviors.org/wp-content/uploads/2022/10/686bf687-4203-af4c-dda0-06ccbf1498a2.png
GEO:33.8164396;-116.5360855
X-APPLE-STRUCTURED-LOCATION;VALUE=URI;X-ADDRESS=Our Savior’s 1020 East Ramon Road Palm Springs CA 92262 United States;X-APPLE-RADIUS=500;X-TITLE=1020 East Ramon Road:geo:-116.5360855,33.8164396
END:VEVENT
BEGIN:VEVENT
DTSTART;TZID=America/Los_Angeles:20221016T110000
DTEND;TZID=America/Los_Angeles:20221016T130000
DTSTAMP:20260424T203856
CREATED:20221001T191252Z
LAST-MODIFIED:20221001T191528Z
UID:10001600-1665918000-1665925200@oursaviors.org
SUMMARY:Church Luncheon
DESCRIPTION:
URL:https://oursaviors.org/event/church-luncheon-5/2022-10-16/
LOCATION:Our Savior’s\, 1020 East Ramon Road\, Palm Springs\, CA\, 92262\, United States
CATEGORIES:Featured
ATTACH;FMTTYPE=image/png:https://oursaviors.org/wp-content/uploads/2022/10/795f4617-6343-0c06-4021-83d99d9db4bc.png
GEO:33.8164396;-116.5360855
X-APPLE-STRUCTURED-LOCATION;VALUE=URI;X-ADDRESS=Our Savior’s 1020 East Ramon Road Palm Springs CA 92262 United States;X-APPLE-RADIUS=500;X-TITLE=1020 East Ramon Road:geo:-116.5360855,33.8164396
END:VEVENT
BEGIN:VEVENT
DTSTART;TZID=America/Los_Angeles:20220925T110000
DTEND;TZID=America/Los_Angeles:20220925T130000
DTSTAMP:20260424T203856
CREATED:20220917T052317Z
LAST-MODIFIED:20220917T052544Z
UID:10001594-1664103600-1664110800@oursaviors.org
SUMMARY:Church Luncheon
DESCRIPTION:Pastor Greg and Kristi will be in town Saturday\, September 24th and Sunday\, September 25th.\nPlease join us for evangelizing and a congregation lunch!
URL:https://oursaviors.org/event/church-luncheon-4/2022-09-25/
LOCATION:Our Savior’s\, 1020 East Ramon Road\, Palm Springs\, CA\, 92262\, United States
CATEGORIES:Featured
ATTACH;FMTTYPE=image/jpeg:https://oursaviors.org/wp-content/uploads/2022/09/1f749a73-1155-dbbc-99ca-698b9b547921.jpg
GEO:33.8164396;-116.5360855
X-APPLE-STRUCTURED-LOCATION;VALUE=URI;X-ADDRESS=Our Savior’s 1020 East Ramon Road Palm Springs CA 92262 United States;X-APPLE-RADIUS=500;X-TITLE=1020 East Ramon Road:geo:-116.5360855,33.8164396
END:VEVENT
BEGIN:VEVENT
DTSTART;TZID=America/Los_Angeles:20220924T120000
DTEND;TZID=America/Los_Angeles:20220924T130000
DTSTAMP:20260424T203856
CREATED:20220920T072137Z
LAST-MODIFIED:20220920T072138Z
UID:10001596-1664020800-1664024400@oursaviors.org
SUMMARY:Evangelism
DESCRIPTION:Questions About Evangelism?\nPlease join us THIS SATURDAY @ 12pm for a church luncheon and congregation meeting in the fellowship hall. Pastor Greg and his wife Kristi will be hosting an evangelism training event immediately following lunch. This is the perfect opportunity to do what God has called us to do as Christians! If you’re new\, great! If you joined us last time\, help us empower and train! \nRomans 1:16 says “For I am not ashamed of the gospel\, for it is the power of God for salvation to everyone who believes…”
URL:https://oursaviors.org/event/evangelism/
LOCATION:Our Savior’s\, 1020 East Ramon Road\, Palm Springs\, CA\, 92262\, United States
ATTACH;FMTTYPE=image/png:https://oursaviors.org/wp-content/uploads/2022/09/evangelism.png
GEO:33.8164396;-116.5360855
X-APPLE-STRUCTURED-LOCATION;VALUE=URI;X-ADDRESS=Our Savior’s 1020 East Ramon Road Palm Springs CA 92262 United States;X-APPLE-RADIUS=500;X-TITLE=1020 East Ramon Road:geo:-116.5360855,33.8164396
END:VEVENT
BEGIN:VEVENT
DTSTART;TZID=America/Los_Angeles:20220921T183000
DTEND;TZID=America/Los_Angeles:20220921T200000
DTSTAMP:20260424T203856
CREATED:20220917T051938Z
LAST-MODIFIED:20220917T051939Z
UID:10001592-1663785000-1663790400@oursaviors.org
SUMMARY:Worship and Prayer Series
DESCRIPTION:Join us for our monthly night of worship and prayer \nSeptember 21\, 2022 – 06:30PM
URL:https://oursaviors.org/event/worship-and-prayer-series/
LOCATION:Our Savior’s\, 1020 East Ramon Road\, Palm Springs\, CA\, 92262\, United States
ATTACH;FMTTYPE=image/jpeg:https://oursaviors.org/wp-content/uploads/2022/09/a4104f68-d530-5495-4ccf-11188de9a240.jpg
GEO:33.8164396;-116.5360855
X-APPLE-STRUCTURED-LOCATION;VALUE=URI;X-ADDRESS=Our Savior’s 1020 East Ramon Road Palm Springs CA 92262 United States;X-APPLE-RADIUS=500;X-TITLE=1020 East Ramon Road:geo:-116.5360855,33.8164396
END:VEVENT
BEGIN:VEVENT
DTSTART;TZID=America/Los_Angeles:20220821T110000
DTEND;TZID=America/Los_Angeles:20220821T120000
DTSTAMP:20260424T203856
CREATED:20220817T203345Z
LAST-MODIFIED:20220817T203345Z
UID:10001591-1661079600-1661083200@oursaviors.org
SUMMARY:Congregational Meeting
DESCRIPTION:We will not be having a church luncheon following Sunday service\, but we will be having a short congregation meeting immediately following service in the Worship Center.
URL:https://oursaviors.org/event/congregational-meeting-2/
LOCATION:Our Savior’s\, 1020 East Ramon Road\, Palm Springs\, CA\, 92262\, United States
GEO:33.8164396;-116.5360855
X-APPLE-STRUCTURED-LOCATION;VALUE=URI;X-ADDRESS=Our Savior’s 1020 East Ramon Road Palm Springs CA 92262 United States;X-APPLE-RADIUS=500;X-TITLE=1020 East Ramon Road:geo:-116.5360855,33.8164396
END:VEVENT
BEGIN:VEVENT
DTSTART;TZID=America/Los_Angeles:20220820T123000
DTEND;TZID=America/Los_Angeles:20220820T180000
DTSTAMP:20260424T203856
CREATED:20220817T203110Z
LAST-MODIFIED:20220817T203250Z
UID:10001590-1660998600-1661018400@oursaviors.org
SUMMARY:Events for 8/20 and 8/21
DESCRIPTION:Pastor Greg is back in town- join him and the elders/EMB for a church luncheon and congregation meeting in the fellowship hall.\nPlease plan to spend 12:30pm – 6pm for a time of planning\, collaboration\, EVANGELISM\, and fellowship! \nWe will not be having a church luncheon following Sunday service\, but we will be having a short congregation meeting immediately following service in the Worship Center.
URL:https://oursaviors.org/event/events-for-8-20-and-8-21/
LOCATION:Our Savior’s\, 1020 East Ramon Road\, Palm Springs\, CA\, 92262\, United States
CATEGORIES:Featured
ATTACH;FMTTYPE=image/jpeg:https://oursaviors.org/wp-content/uploads/2022/08/IMG_4267.jpg
GEO:33.8164396;-116.5360855
X-APPLE-STRUCTURED-LOCATION;VALUE=URI;X-ADDRESS=Our Savior’s 1020 East Ramon Road Palm Springs CA 92262 United States;X-APPLE-RADIUS=500;X-TITLE=1020 East Ramon Road:geo:-116.5360855,33.8164396
END:VEVENT
BEGIN:VEVENT
DTSTART;TZID=America/Los_Angeles:20220817T183000
DTEND;TZID=America/Los_Angeles:20220817T200000
DTSTAMP:20260424T203856
CREATED:20220813T210823Z
LAST-MODIFIED:20220813T210824Z
UID:10002200-1660761000-1660766400@oursaviors.org
SUMMARY:Worship and Prayer Night
DESCRIPTION:
URL:https://oursaviors.org/event/worship-and-prayer-night-2/
LOCATION:Our Savior’s\, 1020 East Ramon Road\, Palm Springs\, CA\, 92262\, United States
CATEGORIES:Featured
ATTACH;FMTTYPE=image/jpeg:https://oursaviors.org/wp-content/uploads/2022/08/2e2286e9-a90e-1ebc-b3d2-36113a0c1f60.jpg
GEO:33.8164396;-116.5360855
X-APPLE-STRUCTURED-LOCATION;VALUE=URI;X-ADDRESS=Our Savior’s 1020 East Ramon Road Palm Springs CA 92262 United States;X-APPLE-RADIUS=500;X-TITLE=1020 East Ramon Road:geo:-116.5360855,33.8164396
END:VEVENT
BEGIN:VEVENT
DTSTART;TZID=America/Los_Angeles:20220806T160000
DTEND;TZID=America/Los_Angeles:20220806T193000
DTSTAMP:20260424T203856
CREATED:20220717T164945Z
LAST-MODIFIED:20220717T165025Z
UID:10002198-1659801600-1659814200@oursaviors.org
SUMMARY:Family Fun Night
DESCRIPTION:You’re Invited! \nFamily fun night – 4pm-7:30pm \nCrafts\, pizza\, snacks\, ‘Skit Guys’ Movie (PG) \n 
URL:https://oursaviors.org/event/family-fun-night/
LOCATION:Our Savior’s\, 1020 East Ramon Road\, Palm Springs\, CA\, 92262\, United States
ATTACH;FMTTYPE=image/png:https://oursaviors.org/wp-content/uploads/2022/07/f61a02b8-a4e3-b9d0-6e13-a9b7fcbfc534.png
GEO:33.8164396;-116.5360855
X-APPLE-STRUCTURED-LOCATION;VALUE=URI;X-ADDRESS=Our Savior’s 1020 East Ramon Road Palm Springs CA 92262 United States;X-APPLE-RADIUS=500;X-TITLE=1020 East Ramon Road:geo:-116.5360855,33.8164396
END:VEVENT
BEGIN:VEVENT
DTSTART;TZID=America/Los_Angeles:20220731T110000
DTEND;TZID=America/Los_Angeles:20220731T123000
DTSTAMP:20260424T203856
CREATED:20220717T164638Z
LAST-MODIFIED:20220717T164639Z
UID:10002197-1659265200-1659270600@oursaviors.org
SUMMARY:Church Luncheon
DESCRIPTION:Join us and Pastor Greg after service for a fellowship Lunch
URL:https://oursaviors.org/event/church-luncheon-2/
LOCATION:Our Savior’s\, 1020 East Ramon Road\, Palm Springs\, CA\, 92262\, United States
ATTACH;FMTTYPE=image/png:https://oursaviors.org/wp-content/uploads/2022/07/37a354a0-dbf4-d9b1-bacf-6edb8b11eef0.png
GEO:33.8164396;-116.5360855
X-APPLE-STRUCTURED-LOCATION;VALUE=URI;X-ADDRESS=Our Savior’s 1020 East Ramon Road Palm Springs CA 92262 United States;X-APPLE-RADIUS=500;X-TITLE=1020 East Ramon Road:geo:-116.5360855,33.8164396
END:VEVENT
BEGIN:VEVENT
DTSTART;TZID=America/Los_Angeles:20220730T120000
DTEND;TZID=America/Los_Angeles:20220730T130000
DTSTAMP:20260424T203856
CREATED:20220728T234420Z
LAST-MODIFIED:20220728T234527Z
UID:10002199-1659182400-1659186000@oursaviors.org
SUMMARY:Church Luncheon
DESCRIPTION:Join us and Pastor Greg this Saturday at 12PM and Sunday after service for a Fellowship Lunch! \nSaturday\, July 30 2020 \nSunday\, July 31 2020 \n 
URL:https://oursaviors.org/event/church-luncheon-3/
LOCATION:Our Savior’s\, 1020 East Ramon Road\, Palm Springs\, CA\, 92262\, United States
ATTACH;FMTTYPE=image/jpeg:https://oursaviors.org/wp-content/uploads/2022/07/03c2b0f0-00a0-c667-1525-172546c305a8.jpg
GEO:33.8164396;-116.5360855
X-APPLE-STRUCTURED-LOCATION;VALUE=URI;X-ADDRESS=Our Savior’s 1020 East Ramon Road Palm Springs CA 92262 United States;X-APPLE-RADIUS=500;X-TITLE=1020 East Ramon Road:geo:-116.5360855,33.8164396
END:VEVENT
BEGIN:VEVENT
DTSTART;TZID=America/Los_Angeles:20220720T183000
DTEND;TZID=America/Los_Angeles:20220720T193000
DTSTAMP:20260424T203856
CREATED:20220529T004011Z
LAST-MODIFIED:20220709T050804Z
UID:10002145-1658341800-1658345400@oursaviors.org
SUMMARY:Worship and Prayer Night
DESCRIPTION:
URL:https://oursaviors.org/event/worship-and-prayer-night-2022-07-20/
LOCATION:Our Savior’s\, 1020 East Ramon Road\, Palm Springs\, CA\, 92262\, United States
CATEGORIES:Featured
ATTACH;FMTTYPE=image/png:https://oursaviors.org/wp-content/uploads/2022/05/a3d260fa-82fb-1997-3e04-ba22fcfa42d0.png
GEO:33.8164396;-116.5360855
X-APPLE-STRUCTURED-LOCATION;VALUE=URI;X-ADDRESS=Our Savior’s 1020 East Ramon Road Palm Springs CA 92262 United States;X-APPLE-RADIUS=500;X-TITLE=1020 East Ramon Road:geo:-116.5360855,33.8164396
END:VEVENT
BEGIN:VEVENT
DTSTART;TZID=America/Los_Angeles:20220615T183000
DTEND;TZID=America/Los_Angeles:20220615T193000
DTSTAMP:20260424T203856
CREATED:20220529T004011Z
LAST-MODIFIED:20220529T004150Z
UID:10002144-1655317800-1655321400@oursaviors.org
SUMMARY:Worship and Prayer Night
DESCRIPTION:
URL:https://oursaviors.org/event/worship-and-prayer-night/2022-06-15/
LOCATION:Our Savior’s\, 1020 East Ramon Road\, Palm Springs\, CA\, 92262\, United States
GEO:33.8164396;-116.5360855
X-APPLE-STRUCTURED-LOCATION;VALUE=URI;X-ADDRESS=Our Savior’s 1020 East Ramon Road Palm Springs CA 92262 United States;X-APPLE-RADIUS=500;X-TITLE=1020 East Ramon Road:geo:-116.5360855,33.8164396
END:VEVENT
BEGIN:VEVENT
DTSTART;TZID=America/Los_Angeles:20220605T110000
DTEND;TZID=America/Los_Angeles:20220605T110000
DTSTAMP:20260424T203856
CREATED:20211122T041634Z
LAST-MODIFIED:20220604T193505Z
UID:10002134-1654426800-1654426800@oursaviors.org
SUMMARY:(CANCELLED) Coffee Fellowship
DESCRIPTION:We will resume Coffee Fellowship next month!
URL:https://oursaviors.org/event/coffee-fellowship-2022-06-05/
LOCATION:Our Savior’s\, 1020 East Ramon Road\, Palm Springs\, CA\, 92262\, United States
CATEGORIES:Featured
GEO:33.8164396;-116.5360855
X-APPLE-STRUCTURED-LOCATION;VALUE=URI;X-ADDRESS=Our Savior’s 1020 East Ramon Road Palm Springs CA 92262 United States;X-APPLE-RADIUS=500;X-TITLE=1020 East Ramon Road:geo:-116.5360855,33.8164396
END:VEVENT
BEGIN:VEVENT
DTSTART;TZID=America/Los_Angeles:20220501T110000
DTEND;TZID=America/Los_Angeles:20220501T123000
DTSTAMP:20260424T203856
CREATED:20220313T024427Z
LAST-MODIFIED:20220313T024514Z
UID:10002142-1651402800-1651408200@oursaviors.org
SUMMARY:Bible Study
DESCRIPTION:Join our Mission Team Leaders\, Alllie Black and Cheryl Voight\, as they lead a 6-week Bible Study on the role everyday Christians have to play in missions.  The study will be held after church on Sundays starting March 27.  We will serve a free lunch to those in attendance.  Please sign up by clicking here.  You can also sign up in the church courtyard before or after church on March 13 and March 20.  Sign-ups are needed in order to have enough study materials and lunch for everyone. \nTo Sign Up\, email cheryl.voight@hotmail.com
URL:https://oursaviors.org/event/bible-study/2022-05-01/
LOCATION:Our Savior’s\, 1020 East Ramon Road\, Palm Springs\, CA\, 92262\, United States
GEO:33.8164396;-116.5360855
X-APPLE-STRUCTURED-LOCATION;VALUE=URI;X-ADDRESS=Our Savior’s 1020 East Ramon Road Palm Springs CA 92262 United States;X-APPLE-RADIUS=500;X-TITLE=1020 East Ramon Road:geo:-116.5360855,33.8164396
END:VEVENT
BEGIN:VEVENT
DTSTART;TZID=America/Los_Angeles:20220326T110000
DTEND;TZID=America/Los_Angeles:20220326T120000
DTSTAMP:20260424T203856
CREATED:20220305T061130Z
LAST-MODIFIED:20220305T061130Z
UID:10002136-1648292400-1648296000@oursaviors.org
SUMMARY:Celebration of Life Service: Linda Munger
DESCRIPTION:Please join us for the\nCELEBRATION OF LIFE SERVICE \nIn loving memory of \nLINDA MUNGER \nSaturday\, March 26\, 2022 at 11am \nOUR SAVIOR’S COMMUNITY CHURCH\n1020 E. RAMON RD. PALM SPRINGS\, CA 92264\nCONTACT PERSON: BOB MUNGER – 760-408-6681\nRECEPTION TO FOLLOW
URL:https://oursaviors.org/event/celebration-of-life-service-linda-munger/
LOCATION:Our Savior’s\, 1020 East Ramon Road\, Palm Springs\, CA\, 92262\, United States
ATTACH;FMTTYPE=image/jpeg:https://oursaviors.org/wp-content/uploads/2022/03/1555ae63-d5fb-ba68-1815-eb7f041d6d5e.jpeg
GEO:33.8164396;-116.5360855
X-APPLE-STRUCTURED-LOCATION;VALUE=URI;X-ADDRESS=Our Savior’s 1020 East Ramon Road Palm Springs CA 92262 United States;X-APPLE-RADIUS=500;X-TITLE=1020 East Ramon Road:geo:-116.5360855,33.8164396
END:VEVENT
END:VCALENDAR