BEGIN:VCALENDAR
VERSION:2.0
PRODID:-//Our Savior&#039;s Palm Springs - ECPv6.15.20//NONSGML v1.0//EN
CALSCALE:GREGORIAN
METHOD:PUBLISH
X-WR-CALNAME:Our Savior&#039;s Palm Springs
X-ORIGINAL-URL:https://oursaviors.org
X-WR-CALDESC:Events for Our Savior&#039;s Palm Springs
REFRESH-INTERVAL;VALUE=DURATION:PT1H
X-Robots-Tag:noindex
X-PUBLISHED-TTL:PT1H
BEGIN:VTIMEZONE
TZID:America/Los_Angeles
BEGIN:DAYLIGHT
TZOFFSETFROM:-0800
TZOFFSETTO:-0700
TZNAME:PDT
DTSTART:20250309T100000
END:DAYLIGHT
BEGIN:STANDARD
TZOFFSETFROM:-0700
TZOFFSETTO:-0800
TZNAME:PST
DTSTART:20251102T090000
END:STANDARD
BEGIN:DAYLIGHT
TZOFFSETFROM:-0800
TZOFFSETTO:-0700
TZNAME:PDT
DTSTART:20260308T100000
END:DAYLIGHT
BEGIN:STANDARD
TZOFFSETFROM:-0700
TZOFFSETTO:-0800
TZNAME:PST
DTSTART:20261101T090000
END:STANDARD
BEGIN:DAYLIGHT
TZOFFSETFROM:-0800
TZOFFSETTO:-0700
TZNAME:PDT
DTSTART:20270314T100000
END:DAYLIGHT
BEGIN:STANDARD
TZOFFSETFROM:-0700
TZOFFSETTO:-0800
TZNAME:PST
DTSTART:20271107T090000
END:STANDARD
END:VTIMEZONE
BEGIN:VEVENT
DTSTART;TZID=America/Los_Angeles:20260301T100000
DTEND;TZID=America/Los_Angeles:20260301T100000
DTSTAMP:20260422T225923
CREATED:20171004T192206Z
LAST-MODIFIED:20260330T045252Z
UID:10003040-1772359200-1772359200@oursaviors.org
SUMMARY:Weekly Worship Service
DESCRIPTION:
URL:https://oursaviors.org/event/weekly-worship-service/2026-03-01/
LOCATION:Our Savior’s\, 1020 East Ramon Road\, Palm Springs\, CA\, 92262\, United States
CATEGORIES:Church Service
ATTACH;FMTTYPE=image/jpeg:https://oursaviors.org/wp-content/uploads/2021/07/Screen-Shot-2021-07-08-at-8.30.05-AM-4.jpg
GEO:33.8164396;-116.5360855
X-APPLE-STRUCTURED-LOCATION;VALUE=URI;X-ADDRESS=Our Savior’s 1020 East Ramon Road Palm Springs CA 92262 United States;X-APPLE-RADIUS=500;X-TITLE=1020 East Ramon Road:geo:-116.5360855,33.8164396
END:VEVENT
BEGIN:VEVENT
DTSTART;TZID=America/Los_Angeles:20260301T100000
DTEND;TZID=America/Los_Angeles:20260301T100000
DTSTAMP:20260422T225923
CREATED:20211101T191705Z
LAST-MODIFIED:20250303T035813Z
UID:10003293-1772359200-1772359200@oursaviors.org
SUMMARY:Children's Sunday School & Nursery
DESCRIPTION:Every Sunday during our church service at 10am\, Ms. Anna and her wonderful team serve our children (infants up to 5th grade) with the love of Jesus.  You can drop off your kids on the way to worship and know they will be well taken care of.  We are so grateful for their ministry!
URL:https://oursaviors.org/event/children-sunday-school/2026-03-01/
LOCATION:Our Savior’s\, 1020 East Ramon Road\, Palm Springs\, CA\, 92262\, United States
GEO:33.8164396;-116.5360855
X-APPLE-STRUCTURED-LOCATION;VALUE=URI;X-ADDRESS=Our Savior’s 1020 East Ramon Road Palm Springs CA 92262 United States;X-APPLE-RADIUS=500;X-TITLE=1020 East Ramon Road:geo:-116.5360855,33.8164396
END:VEVENT
BEGIN:VEVENT
DTSTART;TZID=America/Los_Angeles:20260308T100000
DTEND;TZID=America/Los_Angeles:20260308T100000
DTSTAMP:20260422T225923
CREATED:20171004T192206Z
LAST-MODIFIED:20260330T045252Z
UID:10003041-1772964000-1772964000@oursaviors.org
SUMMARY:Weekly Worship Service
DESCRIPTION:
URL:https://oursaviors.org/event/weekly-worship-service/2026-03-08/
LOCATION:Our Savior’s\, 1020 East Ramon Road\, Palm Springs\, CA\, 92262\, United States
CATEGORIES:Church Service
ATTACH;FMTTYPE=image/jpeg:https://oursaviors.org/wp-content/uploads/2021/07/Screen-Shot-2021-07-08-at-8.30.05-AM-4.jpg
GEO:33.8164396;-116.5360855
X-APPLE-STRUCTURED-LOCATION;VALUE=URI;X-ADDRESS=Our Savior’s 1020 East Ramon Road Palm Springs CA 92262 United States;X-APPLE-RADIUS=500;X-TITLE=1020 East Ramon Road:geo:-116.5360855,33.8164396
END:VEVENT
BEGIN:VEVENT
DTSTART;TZID=America/Los_Angeles:20260308T100000
DTEND;TZID=America/Los_Angeles:20260308T100000
DTSTAMP:20260422T225923
CREATED:20211101T191705Z
LAST-MODIFIED:20250303T035813Z
UID:10003294-1772964000-1772964000@oursaviors.org
SUMMARY:Children's Sunday School & Nursery
DESCRIPTION:Every Sunday during our church service at 10am\, Ms. Anna and her wonderful team serve our children (infants up to 5th grade) with the love of Jesus.  You can drop off your kids on the way to worship and know they will be well taken care of.  We are so grateful for their ministry!
URL:https://oursaviors.org/event/children-sunday-school/2026-03-08/
LOCATION:Our Savior’s\, 1020 East Ramon Road\, Palm Springs\, CA\, 92262\, United States
GEO:33.8164396;-116.5360855
X-APPLE-STRUCTURED-LOCATION;VALUE=URI;X-ADDRESS=Our Savior’s 1020 East Ramon Road Palm Springs CA 92262 United States;X-APPLE-RADIUS=500;X-TITLE=1020 East Ramon Road:geo:-116.5360855,33.8164396
END:VEVENT
BEGIN:VEVENT
DTSTART;TZID=America/Los_Angeles:20260315T100000
DTEND;TZID=America/Los_Angeles:20260315T100000
DTSTAMP:20260422T225923
CREATED:20171004T192206Z
LAST-MODIFIED:20260330T045252Z
UID:10003042-1773568800-1773568800@oursaviors.org
SUMMARY:Weekly Worship Service
DESCRIPTION:
URL:https://oursaviors.org/event/weekly-worship-service/2026-03-15/
LOCATION:Our Savior’s\, 1020 East Ramon Road\, Palm Springs\, CA\, 92262\, United States
CATEGORIES:Church Service
ATTACH;FMTTYPE=image/jpeg:https://oursaviors.org/wp-content/uploads/2021/07/Screen-Shot-2021-07-08-at-8.30.05-AM-4.jpg
GEO:33.8164396;-116.5360855
X-APPLE-STRUCTURED-LOCATION;VALUE=URI;X-ADDRESS=Our Savior’s 1020 East Ramon Road Palm Springs CA 92262 United States;X-APPLE-RADIUS=500;X-TITLE=1020 East Ramon Road:geo:-116.5360855,33.8164396
END:VEVENT
BEGIN:VEVENT
DTSTART;TZID=America/Los_Angeles:20260315T100000
DTEND;TZID=America/Los_Angeles:20260315T100000
DTSTAMP:20260422T225923
CREATED:20211101T191705Z
LAST-MODIFIED:20250303T035813Z
UID:10003295-1773568800-1773568800@oursaviors.org
SUMMARY:Children's Sunday School & Nursery
DESCRIPTION:Every Sunday during our church service at 10am\, Ms. Anna and her wonderful team serve our children (infants up to 5th grade) with the love of Jesus.  You can drop off your kids on the way to worship and know they will be well taken care of.  We are so grateful for their ministry!
URL:https://oursaviors.org/event/children-sunday-school/2026-03-15/
LOCATION:Our Savior’s\, 1020 East Ramon Road\, Palm Springs\, CA\, 92262\, United States
GEO:33.8164396;-116.5360855
X-APPLE-STRUCTURED-LOCATION;VALUE=URI;X-ADDRESS=Our Savior’s 1020 East Ramon Road Palm Springs CA 92262 United States;X-APPLE-RADIUS=500;X-TITLE=1020 East Ramon Road:geo:-116.5360855,33.8164396
END:VEVENT
BEGIN:VEVENT
DTSTART;TZID=America/Los_Angeles:20260318T180000
DTEND;TZID=America/Los_Angeles:20260318T180000
DTSTAMP:20260422T225923
CREATED:20260315T171525Z
LAST-MODIFIED:20260315T171525Z
UID:10003546-1773856800-1773856800@oursaviors.org
SUMMARY:Worship and Prayer Night
DESCRIPTION:We will be meeting for our monthly worship and prayer night.  This is a time that we as leaders\, set aside time to come together\, sing worship songs and pray.\nAll are welcome\, come join us.
URL:https://oursaviors.org/event/worship-and-prayer-night-9/
LOCATION:Our Savior’s\, 1020 East Ramon Road\, Palm Springs\, CA\, 92262\, United States
GEO:33.8164396;-116.5360855
X-APPLE-STRUCTURED-LOCATION;VALUE=URI;X-ADDRESS=Our Savior’s 1020 East Ramon Road Palm Springs CA 92262 United States;X-APPLE-RADIUS=500;X-TITLE=1020 East Ramon Road:geo:-116.5360855,33.8164396
END:VEVENT
BEGIN:VEVENT
DTSTART;TZID=America/Los_Angeles:20260322T100000
DTEND;TZID=America/Los_Angeles:20260322T100000
DTSTAMP:20260422T225923
CREATED:20171004T192206Z
LAST-MODIFIED:20260330T045252Z
UID:10003043-1774173600-1774173600@oursaviors.org
SUMMARY:Weekly Worship Service
DESCRIPTION:
URL:https://oursaviors.org/event/weekly-worship-service/2026-03-22/
LOCATION:Our Savior’s\, 1020 East Ramon Road\, Palm Springs\, CA\, 92262\, United States
CATEGORIES:Church Service
ATTACH;FMTTYPE=image/jpeg:https://oursaviors.org/wp-content/uploads/2021/07/Screen-Shot-2021-07-08-at-8.30.05-AM-4.jpg
GEO:33.8164396;-116.5360855
X-APPLE-STRUCTURED-LOCATION;VALUE=URI;X-ADDRESS=Our Savior’s 1020 East Ramon Road Palm Springs CA 92262 United States;X-APPLE-RADIUS=500;X-TITLE=1020 East Ramon Road:geo:-116.5360855,33.8164396
END:VEVENT
BEGIN:VEVENT
DTSTART;TZID=America/Los_Angeles:20260322T100000
DTEND;TZID=America/Los_Angeles:20260322T100000
DTSTAMP:20260422T225923
CREATED:20211101T191705Z
LAST-MODIFIED:20250303T035813Z
UID:10003296-1774173600-1774173600@oursaviors.org
SUMMARY:Children's Sunday School & Nursery
DESCRIPTION:Every Sunday during our church service at 10am\, Ms. Anna and her wonderful team serve our children (infants up to 5th grade) with the love of Jesus.  You can drop off your kids on the way to worship and know they will be well taken care of.  We are so grateful for their ministry!
URL:https://oursaviors.org/event/children-sunday-school/2026-03-22/
LOCATION:Our Savior’s\, 1020 East Ramon Road\, Palm Springs\, CA\, 92262\, United States
GEO:33.8164396;-116.5360855
X-APPLE-STRUCTURED-LOCATION;VALUE=URI;X-ADDRESS=Our Savior’s 1020 East Ramon Road Palm Springs CA 92262 United States;X-APPLE-RADIUS=500;X-TITLE=1020 East Ramon Road:geo:-116.5360855,33.8164396
END:VEVENT
BEGIN:VEVENT
DTSTART;TZID=America/Los_Angeles:20260329T100000
DTEND;TZID=America/Los_Angeles:20260329T100000
DTSTAMP:20260422T225923
CREATED:20171004T192206Z
LAST-MODIFIED:20260330T045252Z
UID:10003044-1774778400-1774778400@oursaviors.org
SUMMARY:Weekly Worship Service
DESCRIPTION:
URL:https://oursaviors.org/event/weekly-worship-service/2026-03-29/
LOCATION:Our Savior’s\, 1020 East Ramon Road\, Palm Springs\, CA\, 92262\, United States
CATEGORIES:Church Service
ATTACH;FMTTYPE=image/jpeg:https://oursaviors.org/wp-content/uploads/2021/07/Screen-Shot-2021-07-08-at-8.30.05-AM-4.jpg
GEO:33.8164396;-116.5360855
X-APPLE-STRUCTURED-LOCATION;VALUE=URI;X-ADDRESS=Our Savior’s 1020 East Ramon Road Palm Springs CA 92262 United States;X-APPLE-RADIUS=500;X-TITLE=1020 East Ramon Road:geo:-116.5360855,33.8164396
END:VEVENT
BEGIN:VEVENT
DTSTART;TZID=America/Los_Angeles:20260329T100000
DTEND;TZID=America/Los_Angeles:20260329T100000
DTSTAMP:20260422T225923
CREATED:20211101T191705Z
LAST-MODIFIED:20250303T035813Z
UID:10003297-1774778400-1774778400@oursaviors.org
SUMMARY:Children's Sunday School & Nursery
DESCRIPTION:Every Sunday during our church service at 10am\, Ms. Anna and her wonderful team serve our children (infants up to 5th grade) with the love of Jesus.  You can drop off your kids on the way to worship and know they will be well taken care of.  We are so grateful for their ministry!
URL:https://oursaviors.org/event/children-sunday-school/2026-03-29/
LOCATION:Our Savior’s\, 1020 East Ramon Road\, Palm Springs\, CA\, 92262\, United States
GEO:33.8164396;-116.5360855
X-APPLE-STRUCTURED-LOCATION;VALUE=URI;X-ADDRESS=Our Savior’s 1020 East Ramon Road Palm Springs CA 92262 United States;X-APPLE-RADIUS=500;X-TITLE=1020 East Ramon Road:geo:-116.5360855,33.8164396
END:VEVENT
END:VCALENDAR