BEGIN:VCALENDAR
VERSION:2.0
PRODID:-//Our Savior&#039;s Palm Springs - ECPv6.15.20//NONSGML v1.0//EN
CALSCALE:GREGORIAN
METHOD:PUBLISH
X-WR-CALNAME:Our Savior&#039;s Palm Springs
X-ORIGINAL-URL:https://oursaviors.org
X-WR-CALDESC:Events for Our Savior&#039;s Palm Springs
REFRESH-INTERVAL;VALUE=DURATION:PT1H
X-Robots-Tag:noindex
X-PUBLISHED-TTL:PT1H
BEGIN:VTIMEZONE
TZID:America/Los_Angeles
BEGIN:DAYLIGHT
TZOFFSETFROM:-0800
TZOFFSETTO:-0700
TZNAME:PDT
DTSTART:20240310T100000
END:DAYLIGHT
BEGIN:STANDARD
TZOFFSETFROM:-0700
TZOFFSETTO:-0800
TZNAME:PST
DTSTART:20241103T090000
END:STANDARD
BEGIN:DAYLIGHT
TZOFFSETFROM:-0800
TZOFFSETTO:-0700
TZNAME:PDT
DTSTART:20250309T100000
END:DAYLIGHT
BEGIN:STANDARD
TZOFFSETFROM:-0700
TZOFFSETTO:-0800
TZNAME:PST
DTSTART:20251102T090000
END:STANDARD
BEGIN:DAYLIGHT
TZOFFSETFROM:-0800
TZOFFSETTO:-0700
TZNAME:PDT
DTSTART:20260308T100000
END:DAYLIGHT
BEGIN:STANDARD
TZOFFSETFROM:-0700
TZOFFSETTO:-0800
TZNAME:PST
DTSTART:20261101T090000
END:STANDARD
END:VTIMEZONE
BEGIN:VEVENT
DTSTART;TZID=America/Los_Angeles:20251217T180000
DTEND;TZID=America/Los_Angeles:20251217T180000
DTSTAMP:20260424T122258
CREATED:20251214T181927Z
LAST-MODIFIED:20251216T065858Z
UID:10003542-1765994400-1765994400@oursaviors.org
SUMMARY:Worship and Prayer Night | Outdoor Courtyard Event
DESCRIPTION:This Wednesday Night\, Come and join us for a Chili- Baked Potato Bar sponsored by Thrivent!  We will be outside with a “Roaring Fire” enjoying the courtyard decorations and the celebration of Jesus’ birth with Christmas Carols and each other.  Bring your favorite dessert and all your friends! Activities begin at 6:00PM \n 
URL:https://oursaviors.org/event/outdoor-courtyard-event/
LOCATION:Our Savior’s\, 1020 East Ramon Road\, Palm Springs\, CA\, 92262\, United States
CATEGORIES:Featured
GEO:33.8164396;-116.5360855
X-APPLE-STRUCTURED-LOCATION;VALUE=URI;X-ADDRESS=Our Savior’s 1020 East Ramon Road Palm Springs CA 92262 United States;X-APPLE-RADIUS=500;X-TITLE=1020 East Ramon Road:geo:-116.5360855,33.8164396
END:VEVENT
END:VCALENDAR